BEGIN:VCALENDAR
VERSION:2.0
PRODID:-//European Consumer Centre Luxembourg - ECPv5.0.3.1//NONSGML v1.0//EN
CALSCALE:GREGORIAN
METHOD:PUBLISH
X-WR-CALNAME:European Consumer Centre Luxembourg
X-ORIGINAL-URL:https://cecluxembourg.lu/?lang=en
X-WR-CALDESC:Events for European Consumer Centre Luxembourg
BEGIN:VTIMEZONE
TZID:Europe/Berlin
BEGIN:DAYLIGHT
TZOFFSETFROM:+0100
TZOFFSETTO:+0200
TZNAME:CEST
DTSTART:20200329T010000
END:DAYLIGHT
BEGIN:STANDARD
TZOFFSETFROM:+0200
TZOFFSETTO:+0100
TZNAME:CET
DTSTART:20201025T010000
END:STANDARD
END:VTIMEZONE
BEGIN:VEVENT
DTSTART;TZID=Europe/Berlin:20200701T123000
DTEND;TZID=Europe/Berlin:20200701T133000
DTSTAMP:20211011T105446
CREATED:20200626T131312Z
LAST-MODIFIED:20200626T131431Z
UID:25555-1593606600-1593610200@cecluxembourg.lu
SUMMARY:Midi du consommateur européen – « La protection des données personnelles – Un vaste chantier qui nous concerne tous » (Webinar)
DESCRIPTION:Register \n
URL:https://cecluxembourg.lu/veranstaltungen/midi-du-consommateur-europeen-la-protection-des-donnees-personnelles-un-vaste-chantier-qui-nous-concerne-tous-webinaire/?lang=en
LOCATION:Webinar
END:VEVENT
END:VCALENDAR