BEGIN:VCALENDAR
VERSION:2.0
PRODID:-//Europäisches Verbraucherzentrum Luxemburg - ECPv5.0.3.1//NONSGML v1.0//EN
CALSCALE:GREGORIAN
METHOD:PUBLISH
X-WR-CALNAME:Europäisches Verbraucherzentrum Luxemburg
X-ORIGINAL-URL:https://cecluxembourg.lu/?lang=de
X-WR-CALDESC:Veranstaltungen im Europäisches Verbraucherzentrum Luxemburg
BEGIN:VTIMEZONE
TZID:Europe/Berlin
BEGIN:DAYLIGHT
TZOFFSETFROM:+0100
TZOFFSETTO:+0200
TZNAME:CEST
DTSTART:20190331T010000
END:DAYLIGHT
BEGIN:STANDARD
TZOFFSETFROM:+0200
TZOFFSETTO:+0100
TZNAME:CET
DTSTART:20191027T010000
END:STANDARD
END:VTIMEZONE
BEGIN:VEVENT
DTSTART;TZID=Europe/Berlin:20190514T123000
DTEND;TZID=Europe/Berlin:20190514T133000
DTSTAMP:20211011T111808
CREATED:20190410T095038Z
LAST-MODIFIED:20190523T071835Z
UID:22634-1557837000-1557840600@cecluxembourg.lu
SUMMARY:“Midi du consommateur européen”
DESCRIPTION:Facilement reconnaissables et plus sécurisés \nAu vingtième anniversaire: Les nouveaux billets en euros dans les mains des consommateurs \n  \nEinladung \nPräsentation \n
URL:https://cecluxembourg.lu/veranstaltungen/midi-du-consommateur-europeen-7/?lang=de
LOCATION:Maison de l’Europe – Salle Joseph Bech\, 7\, rue du Marché-aux-Herbes\, Luxembourg\, 1728\, Luxemburg
ATTACH;FMTTYPE=image/png:https://cecluxembourg.lu/wp-content/uploads/2017/03/Logo-midi-sumo.png
END:VEVENT
END:VCALENDAR