BEGIN:VCALENDAR
VERSION:2.0
PRODID:-//European Consumer Centre Luxembourg - ECPv5.0.3.1//NONSGML v1.0//EN
CALSCALE:GREGORIAN
METHOD:PUBLISH
X-WR-CALNAME:European Consumer Centre Luxembourg
X-ORIGINAL-URL:https://cecluxembourg.lu/?lang=en
X-WR-CALDESC:Events for European Consumer Centre Luxembourg
BEGIN:VTIMEZONE
TZID:Europe/Berlin
BEGIN:DAYLIGHT
TZOFFSETFROM:+0100
TZOFFSETTO:+0200
TZNAME:CEST
DTSTART:20190331T010000
END:DAYLIGHT
BEGIN:STANDARD
TZOFFSETFROM:+0200
TZOFFSETTO:+0100
TZNAME:CET
DTSTART:20191027T010000
END:STANDARD
END:VTIMEZONE
BEGIN:VEVENT
DTSTART;TZID=Europe/Berlin:20191204T123000
DTEND;TZID=Europe/Berlin:20191204T133000
DTSTAMP:20211011T144159
CREATED:20190410T130853Z
LAST-MODIFIED:20191120T094403Z
UID:22691-1575462600-1575466200@cecluxembourg.lu
SUMMARY:Midi du consommateur européen
DESCRIPTION:Règles de l’UE relatives aux droits des passagers aériens \nL’organisme en charge des plaintes au Luxembourg se présente \n  \nQui n’a jamais eu à gérer les imprévus liés à un vol annulé ou retardé sans parler d’une surréservation? Se plaindre auprès de la compagnie aérienne et se voir opposer une réponse automatique de circonstances exceptionnelles est un passage obligé. Comment alors espérer voir ses droits de passagers reconnus? \nLes règles de l’UE obligent les États membres à désigner ou à créer des « organismes nationaux de contrôle »\, dont le rôle est de vérifier que les opérateurs de transport respectent les droits des passagers aériens en case de litiges. Les passagers qui estiment que leurs droits en vertu de la réglementation en la matière n’ont pas été respectés\, peuvent contacter l’organisme situé dans le pays où l’incident s’est produit. Au Luxembourg\, cet organisme est situé au sein du Ministère de la Protection des consommateurs. \nLe Bureau au Luxembourg du Parlement européen\, la Représentation de la Commission européenne au Luxembourg et le Centre Européen des Consommateurs Luxembourg ont le plaisir de vous inviter à découvrir le fonctionnement de l’organisme de contrôle du Luxembourg et à poser vos questions à Mme Lynn Jacoby et M. Antonin Georgery-Terrazzani\, du Ministère de la Protection des consommateurs\, en charge de cet organisme. \nModération: Karin Basenach \nLa présentation aura lieu en français. Les questions pourront être posées en luxembourgeois\, français et allemand. \nUn sandwich-lunch vous sera offert par la Représentation de la Commission européenne au Luxembourg avant la conférence. \nMerci de vous inscrire par mail comm-rep-lux@ec.europa.eu ou par téléphone au +352 4301 34925. \n  \nInvitation \n
URL:https://cecluxembourg.lu/veranstaltungen/midi-du-consommateur-europeen-16/?lang=en
LOCATION:Maison de l’Europe – Salle Joseph Bech\, 7\, rue du Marché-aux-Herbes\, Luxembourg\, 1728\, Luxemburg
ATTACH;FMTTYPE=image/png:https://cecluxembourg.lu/wp-content/uploads/2017/03/Logo-midi-sumo.png
END:VEVENT
END:VCALENDAR