BEGIN:VCALENDAR
VERSION:2.0
PRODID:-//Europäisches Verbraucherzentrum Luxemburg - ECPv5.0.3.1//NONSGML v1.0//EN
CALSCALE:GREGORIAN
METHOD:PUBLISH
X-WR-CALNAME:Europäisches Verbraucherzentrum Luxemburg
X-ORIGINAL-URL:https://cecluxembourg.lu/?lang=de
X-WR-CALDESC:Veranstaltungen im Europäisches Verbraucherzentrum Luxemburg
BEGIN:VTIMEZONE
TZID:Europe/Berlin
BEGIN:DAYLIGHT
TZOFFSETFROM:+0100
TZOFFSETTO:+0200
TZNAME:CEST
DTSTART:20160327T010000
END:DAYLIGHT
BEGIN:STANDARD
TZOFFSETFROM:+0200
TZOFFSETTO:+0100
TZNAME:CET
DTSTART:20161030T010000
END:STANDARD
END:VTIMEZONE
BEGIN:VEVENT
DTSTART;TZID=Europe/Berlin:20160115T140000
DTEND;TZID=Europe/Berlin:20160117T190000
DTSTAMP:20210425T093044
CREATED:20160111T152033Z
LAST-MODIFIED:20160112T072312Z
UID:14969-1452866400-1453057200@cecluxembourg.lu
SUMMARY:Urlaubsmesse
DESCRIPTION:Stand Nr. 8 B 62 \n
URL:https://cecluxembourg.lu/veranstaltungen/foire-vakanz-2016/?lang=de
LOCATION:Luxexpo\, 10 circuit de la Foire Internationale\, Luxembourg-Kirchberg\, 1347\, Luxembourg
END:VEVENT
END:VCALENDAR