BEGIN:VCALENDAR
VERSION:2.0
PRODID:-//European Consumer Centre Luxembourg - ECPv4.8.2//NONSGML v1.0//EN
CALSCALE:GREGORIAN
METHOD:PUBLISH
X-WR-CALNAME:European Consumer Centre Luxembourg
X-ORIGINAL-URL:https://cecluxembourg.lu/?lang=en
X-WR-CALDESC:Events for European Consumer Centre Luxembourg
BEGIN:VEVENT
DTSTART;VALUE=DATE:20200117
DTEND;VALUE=DATE:20200120
DTSTAMP:20200125T030812
CREATED:20190417T093618Z
LAST-MODIFIED:20200113T103601Z
UID:22749-1579219200-1579478399@cecluxembourg.lu
SUMMARY:Foire Vakanz 2020
DESCRIPTION:Le Centre Européen des Consommateurs Luxembourg sera présent à la foire Vakanz qui se tiendra du 17 au 19 janvier 2020 à LuxExpo (stand 8B62 en collaboration avec  l’ULC). \nDurant ces trois jours\, l’équipe du CEC proposera aux visiteurs de les informer sur le droit européen de la consommation et de répondre à toutes leurs questions concernant la consommation transfrontalière et notamment en matière de voyage. Les publications du CEC sont aussi disponibles et une assistance personnalisée sera offerte à toute personne le désirant. \n
URL:https://cecluxembourg.lu/veranstaltungen/foire-vakanz-2020/?lang=en
END:VEVENT
END:VCALENDAR