BEGIN:VCALENDAR
VERSION:2.0
PRODID:-//European Consumer Centre Luxembourg - ECPv5.0.3.1//NONSGML v1.0//EN
CALSCALE:GREGORIAN
METHOD:PUBLISH
X-WR-CALNAME:European Consumer Centre Luxembourg
X-ORIGINAL-URL:https://cecluxembourg.lu
X-WR-CALDESC:Évènements pour European Consumer Centre Luxembourg
BEGIN:VTIMEZONE
TZID:Europe/Berlin
BEGIN:DAYLIGHT
TZOFFSETFROM:+0100
TZOFFSETTO:+0200
TZNAME:CEST
DTSTART:20210328T010000
END:DAYLIGHT
BEGIN:STANDARD
TZOFFSETFROM:+0200
TZOFFSETTO:+0100
TZNAME:CET
DTSTART:20211031T010000
END:STANDARD
END:VTIMEZONE
BEGIN:VEVENT
DTSTART;TZID=Europe/Berlin:20210421T123000
DTEND;TZID=Europe/Berlin:20210421T133000
DTSTAMP:20210420T020950
CREATED:20210414T115805Z
LAST-MODIFIED:20210414T115805Z
UID:27919-1619008200-1619011800@cecluxembourg.lu
SUMMARY:Les Midis du consommateur européen : Des droits renforcés pour les personnes en situation de handicap
DESCRIPTION:
URL:https://cecluxembourg.lu/veranstaltungen/les-midis-du-consommateur-europeen-des-droits-renforces-pour-les-personnes-en-situation-de-handicap/
LOCATION:Webinar
END:VEVENT
END:VCALENDAR